BEGIN:VCALENDAR
VERSION:2.0
PRODID:-//Library Market//iCal Export//EN
BEGIN:VEVENT
SUMMARY:Digital Media Lab Open Hours
UID:34538
DTSTAMP:20260426T004300Z
DTSTART:20260715T220000Z
DTEND:20260716T000000Z
LOCATION:Hayward Public Library, 888 C Street, Hayward, CA 94541, United S
 tates
ROOM: Digital Media Lab
DESCRIPTION:The Digital Media Lab is a space to create, play, and learn us
 ing digital creation equipment and software at the library.Â The Digital M
 edia Lab has four iMac computers fully loaded with the Adobe Creative Clou
 d suite.Â This includes: Photoshop, Premiere Pro, Illustrator, Lightroom, 
 InDesign, After Effects, Audition, Animate, Character Animator, and more!Â
  We also have an electronic keyboard with headphones.You can book or drop 
 in on stations for up to 2 hours. Before your first appointment you must c
 omplete: Digital Media Lab Registration FormÂ Reservations are recommended
  and can be made at the Digital Media LabÂ reservation page.How Old Do I H
 ave to Be?If you&#039;re over 18, you just need to fill out the registrati
 on form.If you&#039;re over 13 but under 18, you must have your registrati
 on form completed by an adult guardian.Visit the Digital Media Lab Webpage
URL:https://hayward.librarycalendar.com/event/digital-media-lab-open-hours
 -34538
END:VEVENT
END:VCALENDAR
