BEGIN:VCALENDAR
VERSION:2.0
PRODID:-//Library Market//iCal Export//EN
BEGIN:VEVENT
SUMMARY:TEST RESERVATION
UID:34506
DTSTAMP:20260425T132300Z
DTSTART:20260301T150000Z
DTEND:20260301T160000Z
LOCATION:Hayward Public Library, 888 C Street, Hayward, CA 94541, United S
 tates
ROOM: Teen Room
DESCRIPTION:TEST
URL:https://hayward.librarycalendar.com/event/test-reservation-34506
END:VEVENT
END:VCALENDAR
